

BEGIN:VCALENDAR
VERSION:2.0
PRODID:-//hacksw/handcal//NONSGML v1.0//EN
CALSCALE:GREGORIAN
BEGIN:VEVENT
DTEND:20200315T140000
UID:5e58be0a9f485
DTSTAMP:20200228T181522
LOCATION:Black Flats School Cnr Springvale & Waverley Roads Glen Waverley 3150 VIC
DESCRIPTION:
URL;VALUE=URI:http://glenwaverleyrotary.org.au/event/42225
SUMMARY:Rotary Book Sale
DTSTART:20200314T090000
END:VEVENT
END:VCALENDAR

